BEGIN:VCALENDAR
VERSION:2.0
PRODID:-//Welcome to St Wulfran&#039;s  - ECPv6.2.3//NONSGML v1.0//EN
CALSCALE:GREGORIAN
METHOD:PUBLISH
X-WR-CALNAME:Welcome to St Wulfran&#039;s 
X-ORIGINAL-URL:https://stwulfrans.org.uk
X-WR-CALDESC:Events for Welcome to St Wulfran&#039;s 
REFRESH-INTERVAL;VALUE=DURATION:PT1H
X-Robots-Tag:noindex
X-PUBLISHED-TTL:PT1H
BEGIN:VTIMEZONE
TZID:UTC
BEGIN:STANDARD
TZOFFSETFROM:+0000
TZOFFSETTO:+0000
TZNAME:UTC
DTSTART:20260101T000000
END:STANDARD
END:VTIMEZONE
BEGIN:VEVENT
DTSTART;TZID=UTC:20260517T160000
DTEND;TZID=UTC:20260517T173000
DTSTAMP:20260423T144849
CREATED:20260422T170409Z
LAST-MODIFIED:20260422T170409Z
UID:2113-1779033600-1779039000@stwulfrans.org.uk
SUMMARY:Pentecost Bonfire Service
DESCRIPTION:
URL:https://stwulfrans.org.uk/event/pentecost-bonfire-service-2
ATTACH;FMTTYPE=image/jpeg:https://stwulfrans.org.uk/wp-content/uploads/2026/04/Bonfire-service-website-2026.jpg
END:VEVENT
BEGIN:VEVENT
DTSTART;TZID=UTC:20260607T100000
DTEND;TZID=UTC:20260607T110000
DTSTAMP:20260423T144849
CREATED:20260422T165552Z
LAST-MODIFIED:20260422T165552Z
UID:2109-1780826400-1780830000@stwulfrans.org.uk
SUMMARY:All Age Worship
DESCRIPTION:
URL:https://stwulfrans.org.uk/event/all-age-worship-11
ATTACH;FMTTYPE=image/jpeg:https://stwulfrans.org.uk/wp-content/uploads/2025/04/all-age.jpg
END:VEVENT
BEGIN:VEVENT
DTSTART;TZID=UTC:20260705T100000
DTEND;TZID=UTC:20260705T110000
DTSTAMP:20260423T144849
CREATED:20260422T165653Z
LAST-MODIFIED:20260422T165653Z
UID:2111-1783245600-1783249200@stwulfrans.org.uk
SUMMARY:All Age Worship
DESCRIPTION:
URL:https://stwulfrans.org.uk/event/all-age-worship-12
ATTACH;FMTTYPE=image/jpeg:https://stwulfrans.org.uk/wp-content/uploads/2025/04/all-age.jpg
END:VEVENT
END:VCALENDAR