BEGIN:VCALENDAR
VERSION:2.0
PRODID:-//Welcome to St Wulfran&#039;s  - ECPv6.2.3//NONSGML v1.0//EN
CALSCALE:GREGORIAN
METHOD:PUBLISH
X-WR-CALNAME:Welcome to St Wulfran&#039;s 
X-ORIGINAL-URL:https://stwulfrans.org.uk
X-WR-CALDESC:Events for Welcome to St Wulfran&#039;s 
REFRESH-INTERVAL;VALUE=DURATION:PT1H
X-Robots-Tag:noindex
X-PUBLISHED-TTL:PT1H
BEGIN:VTIMEZONE
TZID:UTC
BEGIN:STANDARD
TZOFFSETFROM:+0000
TZOFFSETTO:+0000
TZNAME:UTC
DTSTART:20240101T000000
END:STANDARD
END:VTIMEZONE
BEGIN:VEVENT
DTSTART;TZID=UTC:20250420T100000
DTEND;TZID=UTC:20250420T113000
DTSTAMP:20260425T141112
CREATED:20250321T182611Z
LAST-MODIFIED:20250321T182611Z
UID:1723-1745143200-1745148600@stwulfrans.org.uk
SUMMARY:easter Sunday Eucharist
DESCRIPTION:
URL:https://stwulfrans.org.uk/event/easter-sunday-eucharist-2
CATEGORIES:Eucharist Service,Holy Week and Easter
END:VEVENT
BEGIN:VEVENT
DTSTART;TZID=UTC:20250418T140000
DTEND;TZID=UTC:20250418T153000
DTSTAMP:20260425T141112
CREATED:20250328T101223Z
LAST-MODIFIED:20250328T101223Z
UID:1735-1744984800-1744990200@stwulfrans.org.uk
SUMMARY:Good Friday Liturgy
DESCRIPTION:
URL:https://stwulfrans.org.uk/event/good-friday-liturgy-2
CATEGORIES:Holy Week and Easter
ATTACH;FMTTYPE=image/jpeg:https://stwulfrans.org.uk/wp-content/uploads/2025/03/Good-friday.jpg
END:VEVENT
BEGIN:VEVENT
DTSTART;TZID=UTC:20250418T110000
DTEND;TZID=UTC:20250418T120000
DTSTAMP:20260425T141112
CREATED:20250328T100536Z
LAST-MODIFIED:20250328T100536Z
UID:1731-1744974000-1744977600@stwulfrans.org.uk
SUMMARY:Easter Passion Play- for adults and children . Hot Cross buns afterwards
DESCRIPTION:  \n  \n 
URL:https://stwulfrans.org.uk/event/easter-passion-play-for-adults-and-children-hot-cross-buns-afterwards
CATEGORIES:Family,Holy Week and Easter,Open to all
ATTACH;FMTTYPE=image/jpeg:https://stwulfrans.org.uk/wp-content/uploads/2025/03/Easter-Passio-Play-poster-2025.jpg
END:VEVENT
BEGIN:VEVENT
DTSTART;TZID=UTC:20250417T180000
DTEND;TZID=UTC:20250417T190000
DTSTAMP:20260425T141112
CREATED:20250321T175730Z
LAST-MODIFIED:20250321T175730Z
UID:1720-1744912800-1744916400@stwulfrans.org.uk
SUMMARY:Maundy Thursday Eucharist
DESCRIPTION:
URL:https://stwulfrans.org.uk/event/maundy-thursday-eucharist
CATEGORIES:Eucharist Service,Holy Week and Easter
ATTACH;FMTTYPE=image/webp:https://stwulfrans.org.uk/wp-content/uploads/2025/03/thursday.webp
END:VEVENT
BEGIN:VEVENT
DTSTART;TZID=UTC:20250415T180000
DTEND;TZID=UTC:20250415T183000
DTSTAMP:20260425T141112
CREATED:20250303T181326Z
LAST-MODIFIED:20250321T175432Z
UID:1701-1744740000-1744741800@stwulfrans.org.uk
SUMMARY:Stations of the Cross
DESCRIPTION:
URL:https://stwulfrans.org.uk/event/stations-of-the-cross-4
CATEGORIES:Holy Week and Easter
ATTACH;FMTTYPE=image/jpeg:https://stwulfrans.org.uk/wp-content/uploads/2025/03/stations.jpg
END:VEVENT
BEGIN:VEVENT
DTSTART;TZID=UTC:20250414T180000
DTEND;TZID=UTC:20250414T183000
DTSTAMP:20260425T141112
CREATED:20250321T175038Z
LAST-MODIFIED:20250328T093741Z
UID:1717-1744653600-1744655400@stwulfrans.org.uk
SUMMARY:Stations of the Cross
DESCRIPTION:
URL:https://stwulfrans.org.uk/event/stations-of-the-cross-5
CATEGORIES:Holy Week and Easter
ATTACH;FMTTYPE=image/jpeg:https://stwulfrans.org.uk/wp-content/uploads/2025/03/stations.jpg
END:VEVENT
BEGIN:VEVENT
DTSTART;TZID=UTC:20240331T100000
DTEND;TZID=UTC:20240331T110000
DTSTAMP:20260425T141112
CREATED:20231228T105802Z
LAST-MODIFIED:20240117T144120Z
UID:967-1711879200-1711882800@stwulfrans.org.uk
SUMMARY:Easter Sunday Eucharist
DESCRIPTION:
URL:https://stwulfrans.org.uk/event/easter-sunday-eucharist
CATEGORIES:Eucharist Service,Holy Week and Easter,Open to all
ATTACH;FMTTYPE=image/jpeg:https://stwulfrans.org.uk/wp-content/uploads/2023/12/easter-sun2.jpg
END:VEVENT
BEGIN:VEVENT
DTSTART;TZID=UTC:20240329T140000
DTEND;TZID=UTC:20240329T150000
DTSTAMP:20260425T141112
CREATED:20231228T105653Z
LAST-MODIFIED:20240117T144555Z
UID:965-1711720800-1711724400@stwulfrans.org.uk
SUMMARY:Good Friday Liturgy
DESCRIPTION:
URL:https://stwulfrans.org.uk/event/good-friday-liturgy
CATEGORIES:Church,Family,Holy Week and Easter,Open to all
ATTACH;FMTTYPE=image/jpeg:https://stwulfrans.org.uk/wp-content/uploads/2023/12/good-friday-cross-.jpg
END:VEVENT
BEGIN:VEVENT
DTSTART;TZID=UTC:20240329T110000
DTEND;TZID=UTC:20240329T120000
DTSTAMP:20260425T141112
CREATED:20231228T105515Z
LAST-MODIFIED:20240317T165445Z
UID:963-1711710000-1711713600@stwulfrans.org.uk
SUMMARY:Passion Play
DESCRIPTION:dramatised Easter story for all ages.  Hot cross buns to follow.
URL:https://stwulfrans.org.uk/event/passion-play
CATEGORIES:Church,Family,Holy Week and Easter,Open to all
ATTACH;FMTTYPE=image/png:https://stwulfrans.org.uk/wp-content/uploads/2023/12/easter-play-24.png
END:VEVENT
BEGIN:VEVENT
DTSTART;TZID=UTC:20240328T180000
DTEND;TZID=UTC:20240328T190000
DTSTAMP:20260425T141112
CREATED:20231228T105339Z
LAST-MODIFIED:20240117T144629Z
UID:961-1711648800-1711652400@stwulfrans.org.uk
SUMMARY:Maundy Thursday Service and Vigil
DESCRIPTION:
URL:https://stwulfrans.org.uk/event/maundy-thursday-service-and-vigil
CATEGORIES:Church,Eucharist Service,Holy Week and Easter,Open to all
ATTACH;FMTTYPE=image/jpeg:https://stwulfrans.org.uk/wp-content/uploads/2023/12/maundy-thuirsday.jpg
END:VEVENT
BEGIN:VEVENT
DTSTART;TZID=UTC:20240324T100000
DTEND;TZID=UTC:20240324T110000
DTSTAMP:20260425T141112
CREATED:20231228T105114Z
LAST-MODIFIED:20240117T143925Z
UID:959-1711274400-1711278000@stwulfrans.org.uk
SUMMARY:Palm Sunday Procession and Eucharist
DESCRIPTION:
URL:https://stwulfrans.org.uk/event/palm-sunday-procession-and-eucharist
LOCATION:St Wulfran’s Church\, St Wulfran’s Church\, Greenways\, Ovingdean\,\, Brighton\, BN2 7BA\, United Kingdom
CATEGORIES:Church,Eucharist Service,Family,Holy Week and Easter,Open to all
ATTACH;FMTTYPE=image/jpeg:https://stwulfrans.org.uk/wp-content/uploads/2023/12/palm-sunday-1.jpg
END:VEVENT
BEGIN:VEVENT
DTSTART;TZID=UTC:20240214T180000
DTEND;TZID=UTC:20240214T180000
DTSTAMP:20260425T141112
CREATED:20231228T103935Z
LAST-MODIFIED:20240109T111401Z
UID:946-1707933600-1707933600@stwulfrans.org.uk
SUMMARY:Ash Wednesday Service
DESCRIPTION:
URL:https://stwulfrans.org.uk/event/ash-wednesday-service
LOCATION:St Wulfran’s Church\, St Wulfran’s Church\, Greenways\, Ovingdean\,\, Brighton\, BN2 7BA\, United Kingdom
CATEGORIES:Church,Holy Week and Easter,Open to all
ATTACH;FMTTYPE=image/jpeg:https://stwulfrans.org.uk/wp-content/uploads/2023/12/ash-wednesday.jpg
END:VEVENT
END:VCALENDAR